BEGIN:VCALENDAR
VERSION:2.0
PRODID:-//ChamberMaster//Event Calendar 2.0//EN
METHOD:PUBLISH
X-PUBLISHED-TTL:P3D
REFRESH-INTERVAL:P3D
CALSCALE:GREGORIAN
BEGIN:VEVENT
DTSTART;VALUE=DATE:20220707
DTEND;VALUE=DATE:20220708
TRANSP:TRANSPARENT
X-MICROSOFT-CDO-ALLDAYEVENT:TRUE
SUMMARY:NO Network Convening
DESCRIPTION:Resource Network CONVENING Notice\n\n      Dark in July - Happy 4th of July!\n\nRegister for the August   Resource Network Convening\n\nhere IE RESOURCE NETWORK CONVENING - Aug 2\, 2022 (memberzone.com)
X-ALT-DESC;FMTTYPE=text/html:<p style="font-variant-numeric: normal\; font-variant-east-asian: normal\; background-color: transparent\; cursor: text\; line-height: 20.8px\; margin: 13px 0px\;"><span style="color: rgb(0\, 0\, 128)\;"><strong><span style="font-size: 14px\;"><span style="font-family: arial\;"><span style="font-size: 16px\;">Resource Network CONVENING Notice</span></span></span></strong></span></p>\n\n<p style="font-variant-numeric: normal\; font-variant-east-asian: normal\; background-color: transparent\; cursor: text\; line-height: 20.8px\; margin: 13px 0px\;"><strong trebuchet=""><span style="color: rgb(178\, 34\, 34)\;"><span style="font-size: 14px\;"><span style="font-family: arial\;"><span style="font-size: 16px\;">&nbsp\; &nbsp\; &nbsp\; Dark in July - Happy 4th of July!</span></span></span></span></strong></p>\n\n<p style="font-variant-numeric: normal\; font-variant-east-asian: normal\; background-color: transparent\; cursor: text\; line-height: 20.8px\; margin: 13px 0px\;"><span style="font-family: Arial\; font-size: 14.66px\; font-weight: 700\;">Register for the August&nbsp\;</span><span style="font-family: Arial\; font-size: 14.66px\; font-weight: 700\;">&nbsp\; Resource Network Convening</span><br style="font-family: Arial\; font-size: 14.66px\; font-weight: 700\;" />\n<span style="font-family: Arial\; font-size: 14.66px\; font-weight: 700\;">here&nbsp\;</span><a href="http://academygo.memberzone.com/events/details/ie-resource-network-convening-1036">IE RESOURCE NETWORK CONVENING - Aug 2\, 2022 (memberzone.com)</a></p>\n
LOCATION:
UID:e.9149.1030
SEQUENCE:3
DTSTAMP:20260423T100313Z
URL:https://members.academygo.com/events/details/no-network-convening-1030
END:VEVENT

END:VCALENDAR
